BEGIN:VCALENDAR
VERSION:2.0
PRODID:-//Shari Ferruzzi, Stampin&#039; Up! Demonstrator - ECPv6.15.17.1//NONSGML v1.0//EN
CALSCALE:GREGORIAN
METHOD:PUBLISH
X-ORIGINAL-URL:https://stampinandscrappin.com
X-WR-CALDESC:Events for Shari Ferruzzi, Stampin&#039; Up! Demonstrator
REFRESH-INTERVAL;VALUE=DURATION:PT1H
X-Robots-Tag:noindex
X-PUBLISHED-TTL:PT1H
BEGIN:VTIMEZONE
TZID:America/New_York
BEGIN:DAYLIGHT
TZOFFSETFROM:-0500
TZOFFSETTO:-0400
TZNAME:EDT
DTSTART:20250309T070000
END:DAYLIGHT
BEGIN:STANDARD
TZOFFSETFROM:-0400
TZOFFSETTO:-0500
TZNAME:EST
DTSTART:20251102T060000
END:STANDARD
BEGIN:DAYLIGHT
TZOFFSETFROM:-0500
TZOFFSETTO:-0400
TZNAME:EDT
DTSTART:20260308T070000
END:DAYLIGHT
BEGIN:STANDARD
TZOFFSETFROM:-0400
TZOFFSETTO:-0500
TZNAME:EST
DTSTART:20261101T060000
END:STANDARD
BEGIN:DAYLIGHT
TZOFFSETFROM:-0500
TZOFFSETTO:-0400
TZNAME:EDT
DTSTART:20270314T070000
END:DAYLIGHT
BEGIN:STANDARD
TZOFFSETFROM:-0400
TZOFFSETTO:-0500
TZNAME:EST
DTSTART:20271107T060000
END:STANDARD
END:VTIMEZONE
BEGIN:VEVENT
DTSTART;TZID=America/New_York:20260505T183000
DTEND;TZID=America/New_York:20260505T203000
DTSTAMP:20260424T101918
CREATED:20260421T124958Z
LAST-MODIFIED:20260421T124958Z
UID:3167-1778005800-1778013000@stampinandscrappin.com
SUMMARY:A BUG'S LIFE 3-CARD WORKSHOP - Tuesday\, May 5
DESCRIPTION:Journey into the world of bugs by creating these 3 bug themed cards on Tuesday\, May 5.  This adorable 3-card workshop is sure to bring a smile to your face as you create these adorable cards.    During this session\, we will be using the Springtime Scenes\, Sweet Bugs. and Made with Sweetness bundles. \nThis workshop includes all your paper products. All you need to do is bring your scissors and adhesive and the rest is provided. \nCost is just $9 for this workshop or place a Stampin’ Up! $50 order and your class is FREE! \nDETAILS: \n\nDate:  Tuesday\, May 5\, 2026\n\n\nTime: 6:30-8:30 pm\nPlace:  Shari’s Stampin’ & Scrappin’ Room/Midland\, Michigan\nPrice:  $9 or FREE with $50 order\nBring:  Scissors & Adhesive*\n\n*Adhesive available for purchase at my studio. \nTo register\, please add a ticket (+1) in the box below using the  + .  Click the Paypal Button (even if you don’t have Paypal).  Enter your name and email address then choose to the Paypal yellow button OR pay with card.
URL:https://stampinandscrappin.com/event/a-bugs-life-3-card-workshop-tuesday-may-5/
LOCATION:Shari’s Stampin’ & Scrappin’ Room\, 4608 Autumn Ridge Circle North\, Midland\, MI\, 48642\, United States
ORGANIZER;CN="Shari Ferruzzi":MAILTO:shari@stampinandscrappin.com
END:VEVENT
END:VCALENDAR