BEGIN:VCALENDAR
VERSION:2.0
PRODID:-//Shari Ferruzzi, Stampin&#039; Up! Demonstrator - ECPv6.15.17.1//NONSGML v1.0//EN
CALSCALE:GREGORIAN
METHOD:PUBLISH
X-ORIGINAL-URL:https://stampinandscrappin.com
X-WR-CALDESC:Events for Shari Ferruzzi, Stampin&#039; Up! Demonstrator
REFRESH-INTERVAL;VALUE=DURATION:PT1H
X-Robots-Tag:noindex
X-PUBLISHED-TTL:PT1H
BEGIN:VTIMEZONE
TZID:America/New_York
BEGIN:DAYLIGHT
TZOFFSETFROM:-0500
TZOFFSETTO:-0400
TZNAME:EDT
DTSTART:20250309T070000
END:DAYLIGHT
BEGIN:STANDARD
TZOFFSETFROM:-0400
TZOFFSETTO:-0500
TZNAME:EST
DTSTART:20251102T060000
END:STANDARD
BEGIN:DAYLIGHT
TZOFFSETFROM:-0500
TZOFFSETTO:-0400
TZNAME:EDT
DTSTART:20260308T070000
END:DAYLIGHT
BEGIN:STANDARD
TZOFFSETFROM:-0400
TZOFFSETTO:-0500
TZNAME:EST
DTSTART:20261101T060000
END:STANDARD
BEGIN:DAYLIGHT
TZOFFSETFROM:-0500
TZOFFSETTO:-0400
TZNAME:EDT
DTSTART:20270314T070000
END:DAYLIGHT
BEGIN:STANDARD
TZOFFSETFROM:-0400
TZOFFSETTO:-0500
TZNAME:EST
DTSTART:20271107T060000
END:STANDARD
END:VTIMEZONE
BEGIN:VEVENT
DTSTART;TZID=America/New_York:20260516T110000
DTEND;TZID=America/New_York:20260516T170000
DTSTAMP:20260420T062502
CREATED:20260313T175534Z
LAST-MODIFIED:20260331T171005Z
UID:3112-1778929200-1778950800@stampinandscrappin.com
SUMMARY:Make a Memory Scrapbook Workshop (8 layouts) - Saturday\, May 16
DESCRIPTION:Join me in creating 8 two-page scrapbook layouts on Saturday\, May 16\, 2026.  We’ll be using the Make a Memory Scrapbook kit supplies plus supplies from my stash to create these 8 layouts.  These all-purpose layouts range from fun and whimsical to soft and memorable style pages.  Your kit comes complete with all your paper products PLUS a few extras to take home and create more pages\, cards\, or gift giving items. \nCost is just $40 (that’s just $5/layout) .  Simply bring your paper trimmer\, scissors & adhesive* and we will put these together to add to your album. \nBONUS!  After the pages are assembled\, you can work on your own scrapbooking project.  The craft room will be open until 5:00 pm to play around with other scrapbooking projects that you choose to bring!  Either pack a lunch and a beverage and enjoy this fun Saturday event OR add on soup and salad luncheon for $5/per person. \n\nDate:  Saturday\, May 16\, 2026\nTime:  11:00-5:00 pm\nPlace:  Shari’s Stampin’ & Scrappin’ Room/Midland\, Michigan\nPrice:  $40\nBring:  paper trimmer\, scissors\, and your choice of adhesive*\n\n*Adhesive available for purchase at my studio. \nTo register\, please add a ticket (+1) in the box below using the  + .  Click the Paypal Button (even if you don’t have Paypal).  Enter your name and email address then choose to the Paypal yellow button OR pay with card. \nNOTE:  I will be hosting my FREE CRAFTING DAY at the same time.  Feel free to come early for that\, create your pages\, and stay to play with your own goodies!
URL:https://stampinandscrappin.com/event/make-a-memory-scrapbook-workshop-8-layouts-saturday-may-16/
LOCATION:Shari’s Stampin’ & Scrappin’ Room\, 4608 Autumn Ridge Circle North\, Midland\, MI\, 48642\, United States
ORGANIZER;CN="Shari Ferruzzi":MAILTO:shari@stampinandscrappin.com
END:VEVENT
END:VCALENDAR