BEGIN:VCALENDAR
VERSION:2.0
PRODID:-//Shari Ferruzzi, Stampin&#039; Up! Demonstrator - ECPv6.15.17.1//NONSGML v1.0//EN
CALSCALE:GREGORIAN
METHOD:PUBLISH
X-ORIGINAL-URL:https://stampinandscrappin.com
X-WR-CALDESC:Events for Shari Ferruzzi, Stampin&#039; Up! Demonstrator
REFRESH-INTERVAL;VALUE=DURATION:PT1H
X-Robots-Tag:noindex
X-PUBLISHED-TTL:PT1H
BEGIN:VTIMEZONE
TZID:America/New_York
BEGIN:DAYLIGHT
TZOFFSETFROM:-0500
TZOFFSETTO:-0400
TZNAME:EDT
DTSTART:20250309T070000
END:DAYLIGHT
BEGIN:STANDARD
TZOFFSETFROM:-0400
TZOFFSETTO:-0500
TZNAME:EST
DTSTART:20251102T060000
END:STANDARD
BEGIN:DAYLIGHT
TZOFFSETFROM:-0500
TZOFFSETTO:-0400
TZNAME:EDT
DTSTART:20260308T070000
END:DAYLIGHT
BEGIN:STANDARD
TZOFFSETFROM:-0400
TZOFFSETTO:-0500
TZNAME:EST
DTSTART:20261101T060000
END:STANDARD
BEGIN:DAYLIGHT
TZOFFSETFROM:-0500
TZOFFSETTO:-0400
TZNAME:EDT
DTSTART:20270314T070000
END:DAYLIGHT
BEGIN:STANDARD
TZOFFSETFROM:-0400
TZOFFSETTO:-0500
TZNAME:EST
DTSTART:20271107T060000
END:STANDARD
END:VTIMEZONE
BEGIN:VEVENT
DTSTART;TZID=America/New_York:20260203T183000
DTEND;TZID=America/New_York:20260203T203000
DTSTAMP:20260421T060606
CREATED:20260123T201415Z
LAST-MODIFIED:20260123T201415Z
UID:3045-1770143400-1770150600@stampinandscrappin.com
SUMMARY:Valentine's Day Workshop - Feb 3\, 2026
DESCRIPTION:Nothing says “I LOVE YOU” better than handmade chocolates and a card.  Create this Valentine’s Day card and coordinating sweet treat box during this workshop (includes truffles and chocolate covered sandwich cookies).  The sweet treats box is 4″x4″ and will have sweet treats that spell out LOVE  on each cookie/truffle (total of 4). \nFeel free to sign up for more than 1 kit to give your loved ones. \nDate:  Tuesday\, February 3\, 2026 \nTime:  6:30-8:30 pm \nPlace:  Shari’s Stampin’ & Scrappin’ Room \nCost:  $10 \nBring:  Everything is provided! \nTo register\, please add a ticket (+1) in the box below using the  + .  Click the Paypal Button (even if you don’t have Paypal).  Enter your name and email address then choose to the Paypal yellow button OR pay with card.
URL:https://stampinandscrappin.com/event/valentines-day-workshop-feb-3-2026/
LOCATION:Shari’s Stampin’ & Scrappin’ Room\, 4608 Autumn Ridge Circle North\, Midland\, MI\, 48642\, United States
ORGANIZER;CN="Shari Ferruzzi":MAILTO:shari@stampinandscrappin.com
END:VEVENT
BEGIN:VEVENT
DTSTART;TZID=America/New_York:20260303T183000
DTEND;TZID=America/New_York:20260303T203000
DTSTAMP:20260421T060606
CREATED:20260203T181841Z
LAST-MODIFIED:20260224T192618Z
UID:3069-1772562600-1772569800@stampinandscrappin.com
SUMMARY:LUCKY CARDS WORKSHOP - Tuesday\, March 3
DESCRIPTION:Send your friends and family LUCK with these cards.  We’ll be creating 3 St. Patty’s Day themed cards during this workshop.  We will be using the Sweet Jar Stamp and Punch as well as the Good Luck stamp set. \nCost is just $9. \nDETAILS: \n\nDate:  Tuesday\, March 3 (new date!)\nTime: 6:30-8:30 pm\nPlace:  Shari’s Stampin’ & Scrappin’ Room/Midland\, Michigan\nPrice:  $9\nBring:  Scissors and adhesive*\n\n*Adhesive available for purchase at my studio. \nTo register\, please add a ticket (+1) in the box below using the  + .  Click the Paypal Button (even if you don’t have Paypal).  Enter your name and email address then choose to the Paypal yellow button OR pay with card.sw
URL:https://stampinandscrappin.com/event/lucky-cards-workshop-tuesday-february-24/
LOCATION:MI
ORGANIZER;CN="Shari Ferruzzi":MAILTO:shari@stampinandscrappin.com
END:VEVENT
BEGIN:VEVENT
DTSTART;TZID=America/New_York:20260307T110000
DTEND;TZID=America/New_York:20260307T170000
DTSTAMP:20260421T060606
CREATED:20260128T172002Z
LAST-MODIFIED:20260218T191936Z
UID:3052-1772881200-1772902800@stampinandscrappin.com
SUMMARY:WEEKEND ADVENTURE SCRAPBOOK WORKSHOP - Saturday\, March 7
DESCRIPTION:NEW DATE! \nJoin me in creating 3 two-page scrapbook layouts on Saturday\, March 7\, 2026.  Your kit comes complete with all your paper products PLUS lots of extras to take home and create more pages\, cards\, or gift giving items. \nCost is just $22.  Simply bring your paper trimmer\, scissors & adhesive* and we will put these together to add to your album. \nBONUS!  After the pages are assembled\, you can work on your own scrapbooking project.  The craftroom will be open until 5:00 pm to play around with other scrapbooking projects that you choose to bring!  Pack a lunch and a beverage and enjoy this fun Saturday event. \n\nDate:  Saturday\, March 7\, 2026\nTime:  11:00-5:00 pm\nPlace:  Shari’s Stampin’ & Scrappin’ Room/Midland\, Michigan\nPrice:  $22\nBring:  paper trimmer\, scissors\, and your choice of adhesive*\n\n*Adhesive available for purchase at my studio. \nTo register\, please add a ticket (+1) in the box below using the  + .  Click the Paypal Button (even if you don’t have Paypal).  Enter your name and email address then choose to the Paypal yellow button OR pay with card.
URL:https://stampinandscrappin.com/event/weekend-adventure-scrapbook-workshop-saturday-february-21/
LOCATION:Shari’s Stampin’ & Scrappin’ Room\, 4608 Autumn Ridge Circle North\, Midland\, MI\, 48642\, United States
ORGANIZER;CN="Shari Ferruzzi":MAILTO:shari@stampinandscrappin.com
END:VEVENT
BEGIN:VEVENT
DTSTART;TZID=America/New_York:20260310T183000
DTEND;TZID=America/New_York:20260310T203000
DTSTAMP:20260421T060606
CREATED:20260218T195651Z
LAST-MODIFIED:20260224T193727Z
UID:3083-1773167400-1773174600@stampinandscrappin.com
SUMMARY:Happy Cards Workshop - March 10\, 2026 (Date changed)
DESCRIPTION:Bring on the sunshine with the Happy Place Stamp Set! We will be creating 3 cards using this all-occasion sentiment stamps to celebrate birthdays\, retirements\, send congratulations\, \nThis workshop includes all your paper products AND your stamp set.  All you need to do is bring your clear blocks and adhesive and the rest is provided.  Don’t have a clear block?  Contact me directly for your options. \nCost is just $27 (your paper products are FREE!) \nDETAILS: \n\nDate:  Tuesday\, March 10\nTime: 6:30-8:30 pm\nPlace:  Shari’s Stampin’ & Scrappin’ Room/Midland\, Michigan\nPrice:  $27\nBring:  Scissors\, clear blocks and adhesive*\n\n*Adhesive available for purchase at my studio. \nTo register\, please add a ticket (+1) in the box below using the  + .  Click the Paypal Button (even if you don’t have Paypal).  Enter your name and email address then choose to the Paypal yellow button OR pay with card.
URL:https://stampinandscrappin.com/event/happy-cards-workshop-march-24-2026/
LOCATION:Shari’s Stampin’ & Scrappin’ Room\, 4608 Autumn Ridge Circle North\, Midland\, MI\, 48642\, United States
ORGANIZER;CN="Shari Ferruzzi":MAILTO:shari@stampinandscrappin.com
END:VEVENT
BEGIN:VEVENT
DTSTART;TZID=America/New_York:20260407T183000
DTEND;TZID=America/New_York:20260407T203000
DTSTAMP:20260421T060606
CREATED:20260312T190947Z
LAST-MODIFIED:20260330T191534Z
UID:3097-1775586600-1775593800@stampinandscrappin.com
SUMMARY:Nature's Best 3-Card Workshop-April 7\, 2026
DESCRIPTION:Nature inspires us in so many ways.  This serene 3-card workshop is sure to get you excited for the upcoming warm weather.  We will be creating 3 cards using the Natural Botanicals\, Peaceful Dock\, and Friendly Foliage stamp sets. \nThis workshop includes all your paper products. All you need to do is bring your scissors and adhesive and the rest is provided. \nCost is just $9 for this workshop or place a Stampin’ Up! $50 order and your class is FREE! \nDETAILS: \n\nDate:  Tuesday\, April 7\, 2026\nTime: 6:30-8:30 pm\nPlace:  Shari’s Stampin’ & Scrappin’ Room/Midland\, Michigan\nPrice:  $9 or FREE with $50 order\nBring:  Scissors & Adhesive*\n\n*Adhesive available for purchase at my studio. \nTo register\, please add a ticket (+1) in the box below using the  + .  Click the Paypal Button (even if you don’t have Paypal).  Enter your name and email address then choose to the Paypal yellow button OR pay with card. (Note:  if you’re placing an order on or before the class\, please select the placing SU order ticket.  There won’t be a fee for the class).
URL:https://stampinandscrappin.com/event/natures-best-3-card-workshop-april-7-2026/
LOCATION:Shari’s Stampin’ & Scrappin’ Room\, 4608 Autumn Ridge Circle North\, Midland\, MI\, 48642\, United States
ORGANIZER;CN="Shari Ferruzzi":MAILTO:shari@stampinandscrappin.com
END:VEVENT
BEGIN:VEVENT
DTSTART;TZID=America/New_York:20260415T183000
DTEND;TZID=America/New_York:20260415T203000
DTSTAMP:20260421T060606
CREATED:20260313T163737Z
LAST-MODIFIED:20260330T164003Z
UID:3105-1776277800-1776285000@stampinandscrappin.com
SUMMARY:APRIL\, MAY\, JUNE RECIPE CLUB - SIZZLIN' SIDES
DESCRIPTION:Round 2 of the 2026 Recipe Club is heading your way!  This session we’ll be featuring Sizzlin’ Sides recipes.  Who doesn’t love a tasty hot side dish to go with the perfect meal? I found some recipes that were very inspiring here:  Sizzlin’ Sides (no affiliation; just great inspiration). \nThe pages will be 6″x8″ inches.  Scrapbook binders and filler pages are available for purchase in the ticket section with prices listed. \nThis 3-session club will be held April 15\, May 20\, and June 17 (3rd Wednesday of the month).  Participants will create 3 recipe cards per session and the featured recipe author will bring a sample to share with the group.  Each person will create a total of 9 cards during the 3 month club.  A typed recipe will need to be submitted via email to me by April 5\, 2026.  I format and create the scrapbook cards and have everything ready for assembly the night of the recipe club.  Email address:  shari@stampinandscrappin.com. Don’t worry—you don’t have to create the recipe; simply send us one of your favorites.   Cost is just $18 for 9 cards. \nTo register\, please add a ticket (+1) in the box below using the  + .  Click the Paypal Button (even if you don’t have Paypal).  Enter your name and email address then choose to the Paypal yellow button OR pay with card. \nPre-registration is required. \nNext\, send your typed recipe to shari@stampinandscrappin.com.
URL:https://stampinandscrappin.com/event/april-may-june-recipe-club-sizzlin-sides/
LOCATION:Shari’s Stampin’ & Scrappin’ Room\, 4608 Autumn Ridge Circle North\, Midland\, MI\, 48642\, United States
ORGANIZER;CN="Shari Ferruzzi":MAILTO:shari@stampinandscrappin.com
END:VEVENT
BEGIN:VEVENT
DTSTART;TZID=America/New_York:20260516T100000
DTEND;TZID=America/New_York:20260516T170000
DTSTAMP:20260421T060606
CREATED:20260313T181056Z
LAST-MODIFIED:20260331T165909Z
UID:3118-1778925600-1778950800@stampinandscrappin.com
SUMMARY:Craft Day - Saturday\, May 16\, 2026
DESCRIPTION:CRAFT DAY – Saturday\, May 16\, 2026 \nJoin me in a day of crafting in the Stampin’ & Scrappin’ Workshop.  BRING A PROJECT or purchase a project to work on.  There will be 2 people per 6 foot table and you’ll have access to all my Stampin’ & Scrappin’ supplies (dies\, inks\, etc). \nRegistration is required due to limited space and it’s FREE! \nNEW:  Either pack a lunch and a beverage OR add on soup and salad luncheon for $5/per person. \nDetails:\nDate:  Saturday\, May 16\, 2026\nTime:  10:00 am – 5:00 pm\nCost:  $0 (just need to reserve a spot) \nBONUS!  Shari’s bargain basement Stampin’ products will be available for purchase (paper\, adhesive\, stamps\, scrappin’ kits\, etc).  This even includes past Paper Pumpkin kits! \nTo register\, please add a ticket (+1) in the box below using the  +  then enter your name and email address. \nPre-registration is required. \nHurry and register for this fun filled event! \nPS-checkout the 8 layout scrapbook workshop on the same day!  Make A Memory Workshop \nNote:  if the event is full and you’d like to be waitlisted in case a spot opens up\, please email me at:  shari@stampinandscrappin.com.
URL:https://stampinandscrappin.com/event/craft-day-saturday-may-16/
LOCATION:Shari’s Stampin’ & Scrappin’ Room\, 4608 Autumn Ridge Circle North\, Midland\, MI\, 48642\, United States
ORGANIZER;CN="Shari Ferruzzi":MAILTO:shari@stampinandscrappin.com
END:VEVENT
BEGIN:VEVENT
DTSTART;TZID=America/New_York:20260516T110000
DTEND;TZID=America/New_York:20260516T170000
DTSTAMP:20260421T060606
CREATED:20260313T175534Z
LAST-MODIFIED:20260331T171005Z
UID:3112-1778929200-1778950800@stampinandscrappin.com
SUMMARY:Make a Memory Scrapbook Workshop (8 layouts) - Saturday\, May 16
DESCRIPTION:Join me in creating 8 two-page scrapbook layouts on Saturday\, May 16\, 2026.  We’ll be using the Make a Memory Scrapbook kit supplies plus supplies from my stash to create these 8 layouts.  These all-purpose layouts range from fun and whimsical to soft and memorable style pages.  Your kit comes complete with all your paper products PLUS a few extras to take home and create more pages\, cards\, or gift giving items. \nCost is just $40 (that’s just $5/layout) .  Simply bring your paper trimmer\, scissors & adhesive* and we will put these together to add to your album. \nBONUS!  After the pages are assembled\, you can work on your own scrapbooking project.  The craft room will be open until 5:00 pm to play around with other scrapbooking projects that you choose to bring!  Either pack a lunch and a beverage and enjoy this fun Saturday event OR add on soup and salad luncheon for $5/per person. \n\nDate:  Saturday\, May 16\, 2026\nTime:  11:00-5:00 pm\nPlace:  Shari’s Stampin’ & Scrappin’ Room/Midland\, Michigan\nPrice:  $40\nBring:  paper trimmer\, scissors\, and your choice of adhesive*\n\n*Adhesive available for purchase at my studio. \nTo register\, please add a ticket (+1) in the box below using the  + .  Click the Paypal Button (even if you don’t have Paypal).  Enter your name and email address then choose to the Paypal yellow button OR pay with card. \nNOTE:  I will be hosting my FREE CRAFTING DAY at the same time.  Feel free to come early for that\, create your pages\, and stay to play with your own goodies!
URL:https://stampinandscrappin.com/event/make-a-memory-scrapbook-workshop-8-layouts-saturday-may-16/
LOCATION:Shari’s Stampin’ & Scrappin’ Room\, 4608 Autumn Ridge Circle North\, Midland\, MI\, 48642\, United States
ORGANIZER;CN="Shari Ferruzzi":MAILTO:shari@stampinandscrappin.com
END:VEVENT
END:VCALENDAR